BEGIN:VCALENDAR
VERSION:2.0
PRODID:-//Counter Culture Mom - ECPv6.15.20//NONSGML v1.0//EN
CALSCALE:GREGORIAN
METHOD:PUBLISH
X-WR-CALNAME:Counter Culture Mom
X-ORIGINAL-URL:https://counterculturemom.com
X-WR-CALDESC:Events for Counter Culture Mom
REFRESH-INTERVAL;VALUE=DURATION:PT1H
X-Robots-Tag:noindex
X-PUBLISHED-TTL:PT1H
BEGIN:VTIMEZONE
TZID:America/Chicago
BEGIN:DAYLIGHT
TZOFFSETFROM:-0600
TZOFFSETTO:-0500
TZNAME:CDT
DTSTART:20210314T080000
END:DAYLIGHT
BEGIN:STANDARD
TZOFFSETFROM:-0500
TZOFFSETTO:-0600
TZNAME:CST
DTSTART:20211107T070000
END:STANDARD
BEGIN:DAYLIGHT
TZOFFSETFROM:-0600
TZOFFSETTO:-0500
TZNAME:CDT
DTSTART:20220313T080000
END:DAYLIGHT
BEGIN:STANDARD
TZOFFSETFROM:-0500
TZOFFSETTO:-0600
TZNAME:CST
DTSTART:20221106T070000
END:STANDARD
BEGIN:DAYLIGHT
TZOFFSETFROM:-0600
TZOFFSETTO:-0500
TZNAME:CDT
DTSTART:20230312T080000
END:DAYLIGHT
BEGIN:STANDARD
TZOFFSETFROM:-0500
TZOFFSETTO:-0600
TZNAME:CST
DTSTART:20231105T070000
END:STANDARD
END:VTIMEZONE
BEGIN:VEVENT
DTSTART;VALUE=DATE:20220624
DTEND;VALUE=DATE:20220626
DTSTAMP:20260422T073149
CREATED:20220406T220014Z
LAST-MODIFIED:20220510T144434Z
UID:23142-1656028800-1656201599@counterculturemom.com
SUMMARY:Underground Education ~ Port St. Lucie\, FL
DESCRIPTION: 
URL:https://counterculturemom.com/event/playbook-for-home-learning-conference-underground-education/
LOCATION:Port St. Lucie Community Center\, 2195 SE Airoso Blvd\, Port St. Lucie\, FL\, 34984\, United States
CATEGORIES:family,homeschool convention,parent,teen
ATTACH;FMTTYPE=image/png:https://counterculturemom.com/wp-content/uploads/2022/04/Screen-Shot-2022-05-05-at-12.35.11-PM.png
END:VEVENT
END:VCALENDAR