BEGIN:VCALENDAR
VERSION:2.0
PRODID:-//Counter Culture Mom - ECPv6.15.20//NONSGML v1.0//EN
CALSCALE:GREGORIAN
METHOD:PUBLISH
X-WR-CALNAME:Counter Culture Mom
X-ORIGINAL-URL:https://counterculturemom.com
X-WR-CALDESC:Events for Counter Culture Mom
REFRESH-INTERVAL;VALUE=DURATION:PT1H
X-Robots-Tag:noindex
X-PUBLISHED-TTL:PT1H
BEGIN:VTIMEZONE
TZID:America/Chicago
BEGIN:DAYLIGHT
TZOFFSETFROM:-0600
TZOFFSETTO:-0500
TZNAME:CDT
DTSTART:20190310T080000
END:DAYLIGHT
BEGIN:STANDARD
TZOFFSETFROM:-0500
TZOFFSETTO:-0600
TZNAME:CST
DTSTART:20191103T070000
END:STANDARD
BEGIN:DAYLIGHT
TZOFFSETFROM:-0600
TZOFFSETTO:-0500
TZNAME:CDT
DTSTART:20200308T080000
END:DAYLIGHT
BEGIN:STANDARD
TZOFFSETFROM:-0500
TZOFFSETTO:-0600
TZNAME:CST
DTSTART:20201101T070000
END:STANDARD
BEGIN:DAYLIGHT
TZOFFSETFROM:-0600
TZOFFSETTO:-0500
TZNAME:CDT
DTSTART:20210314T080000
END:DAYLIGHT
BEGIN:STANDARD
TZOFFSETFROM:-0500
TZOFFSETTO:-0600
TZNAME:CST
DTSTART:20211107T070000
END:STANDARD
END:VTIMEZONE
BEGIN:VEVENT
DTSTART;VALUE=DATE:20200731
DTEND;VALUE=DATE:20200802
DTSTAMP:20260423T190303
CREATED:20191211T213802Z
LAST-MODIFIED:20200727T174614Z
UID:17989-1596153600-1596326399@counterculturemom.com
SUMMARY:Rescuing Our Children - Free Live-Streaming Event
DESCRIPTION:WATCH LIVE HERE
URL:https://counterculturemom.com/event/rescuing-our-future-generations-on-hold/
LOCATION:Chattanooga\, TN\, ONLINE EVENT!\, TN\, United States
CATEGORIES:family,parent,teen
ATTACH;FMTTYPE=image/jpeg:https://counterculturemom.com/wp-content/uploads/2019/12/image0-scaled.jpeg
ORGANIZER;CN="Ronnie Moore":MAILTO:ronnieannmoore@aol.com
END:VEVENT
END:VCALENDAR